BEGIN:VCALENDAR
VERSION:2.0
PRODID:-//Camp Twin Lakes - ECPv6.15.20//NONSGML v1.0//EN
CALSCALE:GREGORIAN
METHOD:PUBLISH
X-WR-CALNAME:Camp Twin Lakes
X-ORIGINAL-URL:https://camptwinlakes.org
X-WR-CALDESC:Events for Camp Twin Lakes
REFRESH-INTERVAL;VALUE=DURATION:PT1H
X-Robots-Tag:noindex
X-PUBLISHED-TTL:PT1H
BEGIN:VTIMEZONE
TZID:America/New_York
BEGIN:DAYLIGHT
TZOFFSETFROM:-0500
TZOFFSETTO:-0400
TZNAME:EDT
DTSTART:20250309T070000
END:DAYLIGHT
BEGIN:STANDARD
TZOFFSETFROM:-0400
TZOFFSETTO:-0500
TZNAME:EST
DTSTART:20251102T060000
END:STANDARD
BEGIN:DAYLIGHT
TZOFFSETFROM:-0500
TZOFFSETTO:-0400
TZNAME:EDT
DTSTART:20260308T070000
END:DAYLIGHT
BEGIN:STANDARD
TZOFFSETFROM:-0400
TZOFFSETTO:-0500
TZNAME:EST
DTSTART:20261101T060000
END:STANDARD
BEGIN:DAYLIGHT
TZOFFSETFROM:-0500
TZOFFSETTO:-0400
TZNAME:EDT
DTSTART:20270314T070000
END:DAYLIGHT
BEGIN:STANDARD
TZOFFSETFROM:-0400
TZOFFSETTO:-0500
TZNAME:EST
DTSTART:20271107T060000
END:STANDARD
END:VTIMEZONE
BEGIN:VEVENT
DTSTART;VALUE=DATE:20261002
DTEND;VALUE=DATE:20261005
DTSTAMP:20260421T131848
CREATED:20220315T033523Z
LAST-MODIFIED:20260120T173400Z
UID:5532-1790899200-1791158399@camptwinlakes.org
SUMMARY:Camp Wannaklot Family Weekend
DESCRIPTION:for families of kids with hemophilia
URL:https://camptwinlakes.org/program/5532/
LOCATION:Camp Twin Lakes-Winder\, 210 S. Broad Street\, Unit 5\, Winder\, GA\, 30680\, United States
CATEGORIES:Camp Twin Lakes - Winder
END:VEVENT
BEGIN:VEVENT
DTSTART;VALUE=DATE:20261009
DTEND;VALUE=DATE:20261012
DTSTAMP:20260421T131848
CREATED:20210317T164745Z
LAST-MODIFIED:20260120T173350Z
UID:4639-1791504000-1791763199@camptwinlakes.org
SUMMARY:Hope Loves Company
DESCRIPTION:for families impacted by amyotrophic lateral sclerosis (ALS or Lou Gehrig’s Disease)
URL:https://camptwinlakes.org/program/4639/
LOCATION:Camp Twin Lakes-Winder\, 210 S. Broad Street\, Unit 5\, Winder\, GA\, 30680\, United States
CATEGORIES:Camp Twin Lakes - Winder
END:VEVENT
BEGIN:VEVENT
DTSTART;VALUE=DATE:20261011
DTEND;VALUE=DATE:20261012
DTSTAMP:20260421T131848
CREATED:20260120T164121Z
LAST-MODIFIED:20260120T164121Z
UID:7198-1791676800-1791763199@camptwinlakes.org
SUMMARY:El Campamento de Jesus
DESCRIPTION:for Spanish speaking families of kids with a disability
URL:https://camptwinlakes.org/program/7198/
LOCATION:Camp Twin Lakes-Winder\, 210 S. Broad Street\, Unit 5\, Winder\, GA\, 30680\, United States
CATEGORIES:Camp Twin Lakes - Winder
END:VEVENT
BEGIN:VEVENT
DTSTART;VALUE=DATE:20261023
DTEND;VALUE=DATE:20261026
DTSTAMP:20260421T131848
CREATED:20220315T034752Z
LAST-MODIFIED:20260120T163159Z
UID:5542-1792713600-1792972799@camptwinlakes.org
SUMMARY:Camp Journey
DESCRIPTION:for kids and adults with autism
URL:https://camptwinlakes.org/program/5542/
LOCATION:Camp Twin Lakes-Winder\, 210 S. Broad Street\, Unit 5\, Winder\, GA\, 30680\, United States
CATEGORIES:Camp Twin Lakes - Winder
END:VEVENT
BEGIN:VEVENT
DTSTART;VALUE=DATE:20261030
DTEND;VALUE=DATE:20261102
DTSTAMP:20260421T131848
CREATED:20220315T035150Z
LAST-MODIFIED:20260218T203942Z
UID:5546-1793318400-1793577599@camptwinlakes.org
SUMMARY:Teen Weekend - Children's
DESCRIPTION:for teens with transplants\, kidney disease\, or congenital or acquired heart defects
URL:https://camptwinlakes.org/program/5546/
LOCATION:Camp Twin Lakes-Winder\, 210 S. Broad Street\, Unit 5\, Winder\, GA\, 30680\, United States
CATEGORIES:Camp Twin Lakes - Winder
END:VEVENT
END:VCALENDAR