BEGIN:VCALENDAR
VERSION:2.0
PRODID:-//Camp Twin Lakes - ECPv6.15.20//NONSGML v1.0//EN
CALSCALE:GREGORIAN
METHOD:PUBLISH
X-ORIGINAL-URL:https://camptwinlakes.org
X-WR-CALDESC:Events for Camp Twin Lakes
REFRESH-INTERVAL;VALUE=DURATION:PT1H
X-Robots-Tag:noindex
X-PUBLISHED-TTL:PT1H
BEGIN:VTIMEZONE
TZID:America/New_York
BEGIN:DAYLIGHT
TZOFFSETFROM:-0500
TZOFFSETTO:-0400
TZNAME:EDT
DTSTART:20250309T070000
END:DAYLIGHT
BEGIN:STANDARD
TZOFFSETFROM:-0400
TZOFFSETTO:-0500
TZNAME:EST
DTSTART:20251102T060000
END:STANDARD
BEGIN:DAYLIGHT
TZOFFSETFROM:-0500
TZOFFSETTO:-0400
TZNAME:EDT
DTSTART:20260308T070000
END:DAYLIGHT
BEGIN:STANDARD
TZOFFSETFROM:-0400
TZOFFSETTO:-0500
TZNAME:EST
DTSTART:20261101T060000
END:STANDARD
BEGIN:DAYLIGHT
TZOFFSETFROM:-0500
TZOFFSETTO:-0400
TZNAME:EDT
DTSTART:20270314T070000
END:DAYLIGHT
BEGIN:STANDARD
TZOFFSETFROM:-0400
TZOFFSETTO:-0500
TZNAME:EST
DTSTART:20271107T060000
END:STANDARD
END:VTIMEZONE
BEGIN:VEVENT
DTSTART;VALUE=DATE:20260311
DTEND;VALUE=DATE:20260316
DTSTAMP:20260420T053107
CREATED:20220215T191153Z
LAST-MODIFIED:20260120T175434Z
UID:5480-1773187200-1773619199@camptwinlakes.org
SUMMARY:Camp Blue Skies
DESCRIPTION:for adults with developmental disabilities
URL:https://camptwinlakes.org/program/5480/
LOCATION:Camp Twin Lakes-Rutledge West\, 1391 Keencheefoonee Road\, Rutledge\, GA\, 30663\, United States
CATEGORIES:Camp Twin Lakes Rutledge-West
END:VEVENT
BEGIN:VEVENT
DTSTART;VALUE=DATE:20260318
DTEND;VALUE=DATE:20260323
DTSTAMP:20260420T053107
CREATED:20220215T185127Z
LAST-MODIFIED:20260120T175547Z
UID:5043-1773792000-1774223999@camptwinlakes.org
SUMMARY:Camp Blue Skies-Williams Syndrome
DESCRIPTION: for adults with Williams Syndrome
URL:https://camptwinlakes.org/program/5043/
LOCATION:Camp Twin Lakes-Rutledge West\, 1391 Keencheefoonee Road\, Rutledge\, GA\, 30663\, United States
CATEGORIES:Camp Twin Lakes Rutledge-West
END:VEVENT
END:VCALENDAR